BEGIN:VCALENDAR
VERSION:2.0
PRODID:-//Practice Excellence - ECPv6.15.20//NONSGML v1.0//EN
CALSCALE:GREGORIAN
METHOD:PUBLISH
X-ORIGINAL-URL:https://practiceexcellencetrainings.com
X-WR-CALDESC:Events for Practice Excellence
REFRESH-INTERVAL;VALUE=DURATION:PT1H
X-Robots-Tag:noindex
X-PUBLISHED-TTL:PT1H
BEGIN:VTIMEZONE
TZID:America/Indiana/Indianapolis
BEGIN:DAYLIGHT
TZOFFSETFROM:-0500
TZOFFSETTO:-0400
TZNAME:EDT
DTSTART:20250309T070000
END:DAYLIGHT
BEGIN:STANDARD
TZOFFSETFROM:-0400
TZOFFSETTO:-0500
TZNAME:EST
DTSTART:20251102T060000
END:STANDARD
BEGIN:DAYLIGHT
TZOFFSETFROM:-0500
TZOFFSETTO:-0400
TZNAME:EDT
DTSTART:20260308T070000
END:DAYLIGHT
BEGIN:STANDARD
TZOFFSETFROM:-0400
TZOFFSETTO:-0500
TZNAME:EST
DTSTART:20261101T060000
END:STANDARD
BEGIN:DAYLIGHT
TZOFFSETFROM:-0500
TZOFFSETTO:-0400
TZNAME:EDT
DTSTART:20270314T070000
END:DAYLIGHT
BEGIN:STANDARD
TZOFFSETFROM:-0400
TZOFFSETTO:-0500
TZNAME:EST
DTSTART:20271107T060000
END:STANDARD
END:VTIMEZONE
BEGIN:VEVENT
DTSTART;TZID=America/Indiana/Indianapolis:20260617T083000
DTEND;TZID=America/Indiana/Indianapolis:20260619T170000
DTSTAMP:20260423T092840
CREATED:20260317T194116Z
LAST-MODIFIED:20260317T194116Z
UID:619-1781685000-1781888400@practiceexcellencetrainings.com
SUMMARY:Brainspotting Phase 1 Atlanta
DESCRIPTION:Brainspotting Phase One Live In Person\nJune 17-19\, 2026 registration open now\nAtlanta\, Georgia\, USA\nThree Day Schedule 21 Hours CEs*\nTrainer: Jana Glass\, LPC\, MAC\, PMH-C\nBrainspotting is a brain-based therapy based on the hypothesis that specific eye positions designated as “brainspots” activate and access specific areas of the midbrain that allow for the reprocessing and releasing of core neurophysiological reactions to trauma-related and other psychological experiences. \nIn addition\, brainspotting is built on a model that emphasizes therapist-client presence and attunement in the healing process. As an open and integrative model\, brainspotting is adaptable to many different areas of specialization and can be integrated with other treatment models. \nIn this 3-day introductory Brainspotting training\, participants will learn four basic brainspotting techniques. In addition\, participants will receive an overview of the: \n\nstandards of care and professional practice for brainspotting practitioners\nresearch that supports the primary assumptions of brainspotting\nExposure to practices helpful with the perinatal population\n\nThrough lecture\, live demonstration and small group practice\, participants will learn to do the following: \n\nDefine the components of Brainspotting\nUtilize the techniques of “Inside window”\, “Outside window” and “Gazespotting” and “Body Resource” Brainspotting\nDefine how Brainspotting can be applied to Trauma\, Sports Performance Problems\, Dissociation and Somatic conditions\nDemonstrate the theory and practice of Brainspotting\n\nWho can take Brainspotting?\nThis training is available to all mental health counselors\, social workers\, psychologists\, addiction counselors and others in the healing and birth professions with strong clinical backgrounds\, as well as students and interns. \nDates and Times: \nUS Eastern Time Zone/ Ontario and Quebec Provinces Canada \n\n\n\n\n\nDay\nDate\nStart Time\nEnd Time\n\n\nWednesday\nJune 17\n8:30 AM\n5:00 PM\n\n\nThursday\nJune 18\n8:30 AM\n5:00 PM\n\n\nFriday\nJune 19\n8:30 AM\n5:00 PM\n\n\n\n\nParticipant Feedback; \n“This was one of the best trainings I’ve ever taken\, and I can absolutely see how I will begin using this in my practice. I am was so glad to have gotten to participate as a demo\, and cannot wait to see how my clients respond to this modality in my work with them.” -Phase 1 participant \n“Jana is an incredible facilitator. It is evident that she is a competent and caring guide on didactic and experiential learning. She created a learning atmosphere that provided open communication and safer spaces for clinicians to unlearn and practice the art and science of brainspotting. After Jana’s training\, I feel ready and equipped to begin using this modality with my clients. I am excited for others in my community to experience this powerful\, healing tool. Thank you Jana\, for your commitment to this work”. -Phase 1 participant \n\n\nLocation: The Meadows Atlanta\, Georgia\, USA \nRates: We believe in AID (Access\, Inclusion\, and Diversity) If you or your organization have any barriers to attending this training and would like to attend\, please contact jana@supportivesolutionsga.com \nStandard Registration rate is $795.00 \nProfessionals working with Marginalized Communities $695.00 \nRetake Rate for Repeating the Course/Full Time Student Rate $400.00 \nContinuing Education Fee $25.00 \n  \nCONTINUING EDUCATION: You must be present for the entire live training to be eligible for CEs \n*CEs are offered through NBCC (National Board of Certified Counselors)\, the University of Georgia School of Social Work approved by the Georgia Composite Board of Professional Counselors\, Social Workers\, and Marriage and Family Therapists for 21 hours of Core Continuing Education Hours and Continuing Education approved by PSI (postpartum support international) for Certification and Recertification Hours
URL:https://practiceexcellencetrainings.com/event/brainspotting-phase-1-atlanta-3/
LOCATION:The Meadows\, 5607 Glenridge Dr ste 100\, Atlanta\, GA\, 30342\, United States
CATEGORIES:Brainspotting,In person Training
ATTACH;FMTTYPE=image/png:https://practiceexcellencetrainings.com/wp-content/uploads/2024/10/Screenshot-2024-10-08-at-7.02.41 PM-e1728428594136.png
ORGANIZER;CN="Jana Glass%2C LPC%2C PMH-C":MAILTO:jana@supportivesolutionsga.com
END:VEVENT
BEGIN:VEVENT
DTSTART;TZID=America/Indiana/Indianapolis:20260820T083000
DTEND;TZID=America/Indiana/Indianapolis:20260822T170000
DTSTAMP:20260423T092840
CREATED:20260317T193823Z
LAST-MODIFIED:20260317T193823Z
UID:616-1787214600-1787418000@practiceexcellencetrainings.com
SUMMARY:Brainspotting Phase 1 Atlanta
DESCRIPTION:Brainspotting Phase One Live In Person\nAugust 20-22\, 2026 registration open now\nAtlanta\, Georgia\, USA\nThree Day Schedule 21 Hours CEs*\nTrainer: Jana Glass\, LPC\, MAC\, PMH-C\nBrainspotting is a brain-based therapy based on the hypothesis that specific eye positions designated as “brainspots” activate and access specific areas of the midbrain that allow for the reprocessing and releasing of core neurophysiological reactions to trauma-related and other psychological experiences. \nIn addition\, brainspotting is built on a model that emphasizes therapist-client presence and attunement in the healing process. As an open and integrative model\, brainspotting is adaptable to many different areas of specialization and can be integrated with other treatment models. \nIn this 3-day introductory Brainspotting training\, participants will learn four basic brainspotting techniques. In addition\, participants will receive an overview of the: \n\nstandards of care and professional practice for brainspotting practitioners\nresearch that supports the primary assumptions of brainspotting\nExposure to practices helpful with the perinatal population\n\nThrough lecture\, live demonstration and small group practice\, participants will learn to do the following: \n\nDefine the components of Brainspotting\nUtilize the techniques of “Inside window”\, “Outside window” and “Gazespotting” and “Body Resource” Brainspotting\nDefine how Brainspotting can be applied to Trauma\, Sports Performance Problems\, Dissociation and Somatic conditions\nDemonstrate the theory and practice of Brainspotting\n\nWho can take Brainspotting?\nThis training is available to all mental health counselors\, social workers\, psychologists\, addiction counselors and others in the healing and birth professions with strong clinical backgrounds\, as well as students and interns. \nDates and Times: \nUS Eastern Time Zone/ Ontario and Quebec Provinces Canada \n\n\n\n\n\nDay\nDate\nStart Time\nEnd Time\n\n\nThursday\nAugust 20\n8:30 AM\n5:00 PM\n\n\nFriday\nAugust 21\n8:30 AM\n5:00 PM\n\n\nSaturday\nAugust 22\n8:30 AM\n5:00 PM\n\n\n\n\nParticipant Feedback: \n“I appreciate Jana’s consistently kind presence and guidance that allowed the group to form close cohesion and relationship within and past the framework of the training.” -Phase 1 participant\n\n“Jana is very knowledgeable. The training was thorough. I can’t wait to start using it.” -Phase 1 participant\n\n“Jana is an incredible facilitator. It is evident that she is a competent and caring guide on didactic and experiential learning. She created a learning atmosphere that provided open communication and safer spaces for clinicians to unlearn and practice the art and science of brainspotting. After Jana’s training\, I feel ready and equipped to begin using this modality with my clients. I am excited for others in my community to experience this powerful\, healing tool. Thank you Jana\, for your commitment to this work.” -Phase 1 participant\n\n\nLocation: The Meadows Atlanta\, Georgia\, USA \nRates: We believe in AID (Access\, Inclusion\, and Diversity) If you or your organization have any barriers to attending this training and would like to attend\, please contact jana@supportivesolutionsga.com \nStandard Registration rate is $795.00 \nProfessionals working with Marginalized Communities and full fee is a barrier $695.00 \nRetake Rate for Repeating the Course/Full Time Student Rate $400.00 \nContinuing Education Fee $25.00 \n  \nCONTINUING EDUCATION: You must be present for the entire live training to be eligible for CEs \n*CEs are offered through NBCC (National Board of Certified Counselors)\, the University of Georgia School of Social Work approved by the Georgia Composite Board of Professional Counselors\, Social Workers\, and Marriage and Family Therapists for 21 hours of Core Continuing Education Hours and Continuing Education approved by PSI (postpartum support international) for Certification and Recertification Hours
URL:https://practiceexcellencetrainings.com/event/brainspotting-phase-1-atlanta-2/
LOCATION:The Meadows\, 5607 Glenridge Dr ste 100\, Atlanta\, GA\, 30342\, United States
CATEGORIES:Brainspotting,In person Training
ATTACH;FMTTYPE=image/png:https://practiceexcellencetrainings.com/wp-content/uploads/2024/10/Screenshot-2024-10-08-at-7.02.41 PM-e1728428594136.png
ORGANIZER;CN="Jana Glass%2C LPC%2C PMH-C":MAILTO:jana@supportivesolutionsga.com
END:VEVENT
BEGIN:VEVENT
DTSTART;TZID=America/Indiana/Indianapolis:20261112T083000
DTEND;TZID=America/Indiana/Indianapolis:20261114T170000
DTSTAMP:20260423T092840
CREATED:20260317T192759Z
LAST-MODIFIED:20260317T192759Z
UID:610-1794472200-1794675600@practiceexcellencetrainings.com
SUMMARY:Brainspotting Phase 2 Atlanta
DESCRIPTION:Brainspotting Phase Two Live IN PERSON\nNovember 12-14\, 2026\nThree Day Schedule 21 Hours CEs*\nTrainer: Jana Glass\, LPC\, MAC\, PMH-C\nWho Should Attend? \nThis intermediate training is specifically designed for those who have completed Brainspotting Phase One live in person or live via video training with an approved Brainspotting Trainer.  \nIt is ideal for mental health counselors\, social workers\, psychologists\, addiction counselors and others in the healing and birth professions with strong clinical backgrounds\, as well as students and interns who want to learn this powerful approach. \nWhat is Brainspotting?\nBrainspotting is a brain-based therapy based on the hypothesis that specific eye positions designated as “brainspots” activate and access specific areas of the midbrain that allow for the reprocessing and releasing of core neurophysiological reactions to trauma-related and other psychological experiences. \nIn addition\, brainspotting is built on a model that emphasizes therapist-client presence and attunement in the healing process. As an open and integrative model\, brainspotting is adaptable to many different areas of specialization and can be integrated with other treatment models. \nTraining Overview:  In this 3-day intermediate Brainspotting training\, participants will learn five additional brainspotting techniques that build on the techniques taught in Phase 1. \nPhase 2 training Includes: \n-Extensive review of Phase 1 techniques & foundational skills to increase client connection -Introduction to several brainspotting applications that assist with client regulation\, resourcing\, those who struggle with focus and sustained attention\, and those who struggle to feel sensations in their body -Techniques taught with PowerPoint lecture\, discussion with in depth question and answer sessions\, live demonstrations and practicums to practice the skills. \nDates and Times:\nUS Eastern Time Zone/ Ontario and Quebec Provinces Canada \n\n\n\n\nDay\nDate\nStart Time\nEnd Time\n\n\nThursday\nNovember 12\n8:30 AM\n5:00 PM\n\n\nFriday\nNovember 13\n8:30 AM\n5:00 PM\n\n\nSaturday\nNovember 14\n8:30 AM\n5:00 PM\n\n\n\n**REGISTER BY OCTOBER 16 and you will receive a pair of Brainspotting Goggles**\nParticipant Feedback: \n“Jana is a great teacher and speaker. The way she answers questions\, gives examples\, and speaks is really helpful. I learn a lot from the demos and practicum.” -Phase 2 participant \n“I believe Brainspotting helps clients when they feel stuck\, and talk therapy only takes us so far. Brainspotting helps me bring in more clients now that I have this as a modality. It really works.” -Phase 2 participant \n\nLocation: The Meadows Atlanta\, Georgia\nLearning Objectives: \nIn this 3-day phase Brainspotting training\, participants will: \n\nReview components taught in Brainspotting Phase 1 (Outside and Inside Window and Gazespotting)\nDefine and Utilize Dual Attunement Frame\nReview the components of Brainspotting\nDemonstrate and use One-Eye Brainspotting\nDemonstrate and use Three Dimensional Z-Axis and Convergence Therapy\nDemonstrate and use Rolling Brainspotting\nDemonstrate and use combined Inside-Outside Brainspotting\nDemonstrate and use Second Level of the Advanced Resource Model\nUtilize the techniques of “One-Eye Brainspotting\,” “Z-Axis\,” “Rolling Brainspotting\,” “Inside-Outside Brainspotting” and the “Advanced Resource Model of Brainspotting.”\nDefine how Brainspotting can be applied to Trauma\, Dissociation\, Perinatal Trauma\, and Somatic conditions\nDemonstrate the theories and practices of Brainspotting\n\nRates: We believe in AID (Access\, Inclusion\, and Diversity) If you or your organization have any barriers to attending this training and would like to attend\, please contact jana@supportivesolutionsga.com\nStandard Registration rate is $795.00 \nProfessionals working with Marginalized Communities and where the full training fee would be a barrier to access $695 \nRetake Rate for Repeating the Course/Full Time Student Rate $400.00 \nContinuing Education Fee $25 \n  \nCONTINUING EDUCATION: You must be present for the entire live training to be eligible for CEs \n*Continuing Education approved by PSI (postpartum support international) and CEs are offered through NBCC (National Board of Certified Counselors) and the University of Georgia School of Social Work approved by the Georgia Composite Board of Professional Counselors\, Social Workers\, & Marriage and Family Therapists for 21 hours of Core Continuing Education Hours
URL:https://practiceexcellencetrainings.com/event/brainspotting-phase-2-atlanta-2/
LOCATION:The Meadows\, 5607 Glenridge Dr ste 100\, Atlanta\, GA\, 30342\, United States
CATEGORIES:Brainspotting,In person Training
ATTACH;FMTTYPE=image/png:https://practiceexcellencetrainings.com/wp-content/uploads/2024/10/Screenshot-2024-10-08-at-7.02.41 PM-e1728428594136.png
ORGANIZER;CN="Jana Glass%2C LPC%2C PMH-C":MAILTO:jana@supportivesolutionsga.com
END:VEVENT
END:VCALENDAR