BEGIN:VCALENDAR
VERSION:2.0
PRODID:-//Practice Excellence - ECPv6.15.17//NONSGML v1.0//EN
CALSCALE:GREGORIAN
METHOD:PUBLISH
X-ORIGINAL-URL:https://practiceexcellencetrainings.com
X-WR-CALDESC:Events for Practice Excellence
REFRESH-INTERVAL;VALUE=DURATION:PT1H
X-Robots-Tag:noindex
X-PUBLISHED-TTL:PT1H
BEGIN:VTIMEZONE
TZID:America/Indiana/Indianapolis
BEGIN:DAYLIGHT
TZOFFSETFROM:-0500
TZOFFSETTO:-0400
TZNAME:EDT
DTSTART:20250309T070000
END:DAYLIGHT
BEGIN:STANDARD
TZOFFSETFROM:-0400
TZOFFSETTO:-0500
TZNAME:EST
DTSTART:20251102T060000
END:STANDARD
BEGIN:DAYLIGHT
TZOFFSETFROM:-0500
TZOFFSETTO:-0400
TZNAME:EDT
DTSTART:20260308T070000
END:DAYLIGHT
BEGIN:STANDARD
TZOFFSETFROM:-0400
TZOFFSETTO:-0500
TZNAME:EST
DTSTART:20261101T060000
END:STANDARD
BEGIN:DAYLIGHT
TZOFFSETFROM:-0500
TZOFFSETTO:-0400
TZNAME:EDT
DTSTART:20270314T070000
END:DAYLIGHT
BEGIN:STANDARD
TZOFFSETFROM:-0400
TZOFFSETTO:-0500
TZNAME:EST
DTSTART:20271107T060000
END:STANDARD
END:VTIMEZONE
BEGIN:VEVENT
DTSTART;TZID=America/Indiana/Indianapolis:20260312T090000
DTEND;TZID=America/Indiana/Indianapolis:20260314T180000
DTSTAMP:20260301T222945
CREATED:20250929T171550Z
LAST-MODIFIED:20250929T171550Z
UID:529-1773306000-1773511200@practiceexcellencetrainings.com
SUMMARY:Brainspotting Phase 1 Training Indianapolis
DESCRIPTION:Brainspotting is a powerful brain-body-mindfulness-based relational therapy used for the treatment of trauma as well as personal growth and expansion. Brainspotting is an open\, integrative model\, which can be used with other treatment models and adapted to many different populations and areas of specialization. This training is available to all mental health counselors\, marriage and family therapists\, social workers\, psychologists\, addiction counselors\, as well as students and interns. \nThis 3-day Brainspotting training will include:\n\nlecture\, live demonstrations\, and individual practice as therapist and client\nfour core Brainspotting techniques\nfoundational components of Brainspotting practice\nresearch that supports Brainspotting\nBrainspotting history\n\nTraining Objectives:\n\nDefine the components of Brainspotting\nUtilize the techniques of “Inside window”\, “Outside window” and “Gazespotting” and “Body Resource” Brainspotting\nDefine how Brainspotting can be applied to Trauma\, Sports Performance Problems\, Dissociation and Somatic conditions\nDemonstrate the theory and practice of Brainspotting\n\nThis training will be held at The Green House at 447 E 38th Street\, Indianapolis\, 46205\, 9am-6pm each day. Early bird registration will be available until November 30th\, 11:59pm ET. Regular registration will be available until January 31st\, 11:59pm ET. \n  \nRegister Here
URL:https://practiceexcellencetrainings.com/event/brainspotting-phase-1-training-indianapolis/
LOCATION:The Green House\, 447 E 38th Street\, Indianapolis\, IN\, 46205\, United States
CATEGORIES:Brainspotting,In person Training
ATTACH;FMTTYPE=image/png:https://practiceexcellencetrainings.com/wp-content/uploads/2024/10/Brainspotting-Trainings-2.png
ORGANIZER;CN="Brooke Randolph%2C LMHC%2C LIMHP%2C LPC%2C LPCC-S":MAILTO:email@brooke-randolph.com
END:VEVENT
BEGIN:VEVENT
DTSTART;TZID=America/Indiana/Indianapolis:20260426T090000
DTEND;TZID=America/Indiana/Indianapolis:20260428T180000
DTSTAMP:20260301T222945
CREATED:20250929T172149Z
LAST-MODIFIED:20250929T172258Z
UID:532-1777194000-1777399200@practiceexcellencetrainings.com
SUMMARY:Brainspotting Phase 1 Training Indianapolis
DESCRIPTION:Brainspotting is a powerful brain-body-mindfulness-based relational therapy used for the treatment of trauma as well as personal growth and expansion. Brainspotting is an open\, integrative model\, which can be used with other treatment models and adapted to many different populations and areas of specialization. This training is available to all mental health counselors\, marriage and family therapists\, social workers\, psychologists\, addiction counselors\, as well as students and interns. \nThis 3-day Brainspotting training will include:\n\nlecture\, live demonstrations\, and individual practice as therapist and client\nfour core Brainspotting techniques\nfoundational components of Brainspotting practice\nresearch that supports Brainspotting\nBrainspotting history\n\nTraining Objectives:\n\nDefine the components of Brainspotting\nUtilize the techniques of “Inside window”\, “Outside window” and “Gazespotting” and “Body Resource” Brainspotting\nDefine how Brainspotting can be applied to Trauma\, Sports Performance Problems\, Dissociation and Somatic conditions\nDemonstrate the theory and practice of Brainspotting\n\n  \nThis training will be held at The Green House at 447 E 38th Street\, Indianapolis\, 46205\, 9am-6pm each day. Early bird registration will be available until December 31st\, 11:59pm ET. Regular registration will be available until March 31st\, 11:59pm ET. \nRegister Here
URL:https://practiceexcellencetrainings.com/event/brainspotting-phase-1-training-indianapolis-2/
LOCATION:The Green House\, 447 E 38th Street\, Indianapolis\, IN\, 46205\, United States
CATEGORIES:Brainspotting,In person Training
ATTACH;FMTTYPE=image/png:https://practiceexcellencetrainings.com/wp-content/uploads/2024/10/Brainspotting-Trainings-2.png
ORGANIZER;CN="Brooke Randolph%2C LMHC%2C LIMHP%2C LPC%2C LPCC-S":MAILTO:email@brooke-randolph.com
END:VEVENT
BEGIN:VEVENT
DTSTART;TZID=America/Indiana/Indianapolis:20260614T090000
DTEND;TZID=America/Indiana/Indianapolis:20260616T180000
DTSTAMP:20260301T222945
CREATED:20250929T174816Z
LAST-MODIFIED:20250929T174816Z
UID:545-1781427600-1781632800@practiceexcellencetrainings.com
SUMMARY:Brainspotting Phase 2 Indianapolis
DESCRIPTION:Expand your Brainspotting skills and understanding\, learning a variety of techniques and adjustments to increase and decrease activation for your clients. This training is available to all mental health counselors\, marriage and family therapists\, social workers\, psychologists\, addiction counselors\, as well as students and interns who have completed Phase 1. \nThis Brainspotting training will include:\n\nlecture\, live demonstrations\, and individual practice as therapist and client\nOne-Eye Brainspotting\, including the use of One-Eye goggles\n3 Dimensional Brainspotting using the Z-Axis and Convergence Therapy\nRolling Brainspotting\nInside-Outside Brainspotting\nAdvanced Resource Model\n\nTraining Objectives:\n\nReview components taught in Brainspotting Phase 1\nDefine Frame and Focus Brainspotting Treatment\nDemonstrate 3 Dimensional Z-Axis and convergence Therapy\nDefine and demonstrate Rolling Brainspotting\nDefine and demonstrate Advanced Resource. Model\n\n  \nThis training will be held at The Green House\, 447 E 38th Street\, Indianapolis\, 46205\, 9am-6pm each day. \nRegister Here
URL:https://practiceexcellencetrainings.com/event/brainspotting-phase-2-indianapolis/
LOCATION:The Green House\, 447 E 38th Street\, Indianapolis\, IN\, 46205\, United States
CATEGORIES:Brainspotting,In person Training
ATTACH;FMTTYPE=image/png:https://practiceexcellencetrainings.com/wp-content/uploads/2024/10/Brainspotting-Trainings-2.png
ORGANIZER;CN="Brooke Randolph%2C LMHC%2C LIMHP%2C LPC%2C LPCC-S":MAILTO:email@brooke-randolph.com
END:VEVENT
BEGIN:VEVENT
DTSTART;TZID=America/Indiana/Indianapolis:20260824T110000
DTEND;TZID=America/Indiana/Indianapolis:20260828T160000
DTSTAMP:20260301T222945
CREATED:20250929T172533Z
LAST-MODIFIED:20250929T172950Z
UID:536-1787569200-1787932800@practiceexcellencetrainings.com
SUMMARY:Brainspotting Phase 1 Training Online
DESCRIPTION:Brainspotting is a powerful brain-body-mindfulness-based relational therapy used for the treatment of trauma as well as personal growth and expansion. Brainspotting is an open\, integrative model\, which can be used with other treatment models and adapted to many different populations and areas of specialization. This training is available to all mental health counselors\, marriage and family therapists\, social workers\, psychologists\, addiction counselors\, as well as students and interns. \nThis 3-day Brainspotting training will include:\n\nlecture\, live demonstrations\, and individual practice as therapist and client\nfour core Brainspotting techniques\nfoundational components of Brainspotting practice\nresearch that supports Brainspotting\nBrainspotting history\n\nTraining Objectives:\n\nDefine the components of Brainspotting\nUtilize the techniques of “Inside window”\, “Outside window” and “Gazespotting” and “Body Resource” Brainspotting\nDefine how Brainspotting can be applied to Trauma\, Sports Performance Problems\, Dissociation and Somatic conditions\nDemonstrate the theory and practice of Brainspotting\n\n  \nThis training will be held online via Zoom 11am – 4pm ET each day. Early bird registration will be available until April 30th\, 11:59pm ET. Regular registration will be available until July 31st\, 11:59pm EST. \nRegister Here
URL:https://practiceexcellencetrainings.com/event/brainspotting-phase-1-training-online/
LOCATION:IN
CATEGORIES:Brainspotting,Online Live Training
ATTACH;FMTTYPE=image/png:https://practiceexcellencetrainings.com/wp-content/uploads/2024/10/Brainspotting-Trainings-2.png
END:VEVENT
BEGIN:VEVENT
DTSTART;TZID=America/Indiana/Indianapolis:20260924T090000
DTEND;TZID=America/Indiana/Indianapolis:20260926T180000
DTSTAMP:20260301T222945
CREATED:20250929T173659Z
LAST-MODIFIED:20250929T173659Z
UID:539-1790240400-1790445600@practiceexcellencetrainings.com
SUMMARY:Brainspotting Phase 1 Training Indianapolis
DESCRIPTION:Brainspotting is a powerful brain-body-mindfulness-based relational therapy used for the treatment of trauma as well as personal growth and expansion. Brainspotting is an open\, integrative model\, which can be used with other treatment models and adapted to many different populations and areas of specialization. This training is available to all mental health counselors\, marriage and family therapists\, social workers\, psychologists\, addiction counselors\, as well as students and interns. \nThis 3-day Brainspotting training will include:\n\nlecture\, live demonstrations\, and individual practice as therapist and client\nfour core Brainspotting techniques\nfoundational components of Brainspotting practice\nresearch that supports Brainspotting\nBrainspotting history\n\nTraining Objectives:\n\nDefine the components of Brainspotting\nUtilize the techniques of “Inside window”\, “Outside window” and “Gazespotting” and “Body Resource” Brainspotting\nDefine how Brainspotting can be applied to Trauma\, Sports Performance Problems\, Dissociation and Somatic conditions\nDemonstrate the theory and practice of Brainspotting\n\nThis training will be held at The Green House at 447 E 38th Street\, Indianapolis\, 46205\, 9am-6pm each day. Early bird registration will be available until April 30th\, 11:59pm EST. Regular registration will be available until July 31st\, 11:59pm EST. \nRegister Here
URL:https://practiceexcellencetrainings.com/event/brainspotting-phase-1-training-indianapolis-3/
LOCATION:The Green House\, 447 E 38th Street\, Indianapolis\, IN\, 46205\, United States
CATEGORIES:Brainspotting,In person Training
ATTACH;FMTTYPE=image/png:https://practiceexcellencetrainings.com/wp-content/uploads/2024/10/Brainspotting-Trainings-2.png
ORGANIZER;CN="Brooke Randolph%2C LMHC%2C LIMHP%2C LPC%2C LPCC-S":MAILTO:email@brooke-randolph.com
END:VEVENT
BEGIN:VEVENT
DTSTART;TZID=America/Indiana/Indianapolis:20261116T110000
DTEND;TZID=America/Indiana/Indianapolis:20261120T160000
DTSTAMP:20260301T222945
CREATED:20250929T174521Z
LAST-MODIFIED:20250929T174521Z
UID:542-1794826800-1795190400@practiceexcellencetrainings.com
SUMMARY:Brainspotting Phase 2 Online 5 Days
DESCRIPTION:Expand your Brainspotting skills and understanding\, learning a variety of techniques and adjustments to increase and decrease activation for your clients. This training is available to all mental health counselors\, marriage and family therapists\, social workers\, psychologists\, addiction counselors\, as well as students and interns who have completed Phase 1. \nThis Brainspotting training will include:\n\nlecture\, live demonstrations\, and individual practice as therapist and client\nOne-Eye Brainspotting\, including the use of One-Eye goggles\n3 Dimensional Brainspotting using the Z-Axis and Convergence Therapy\nRolling Brainspotting\nInside-Outside Brainspotting\nAdvanced Resource Model\n\nTraining Objectives:\n\nReview components taught in Brainspotting Phase 1\nDefine Frame and Focus Brainspotting Treatment\nDemonstrate 3 Dimensional Z-Axis and convergence Therapy\nDefine and demonstrate Rolling Brainspotting\nDefine and demonstrate Advanced Resource. Model\n\n  \nThis training will be held via Zoom 11am-4pm ET each day. Early bird registration will be available until May 31\, 11:59pm EST. Regular registration will be available until September 30\, 11:59pm EST. \n  \nRegister Here
URL:https://practiceexcellencetrainings.com/event/brainspotting-phase-2-online-5-days/
LOCATION:IN
CATEGORIES:Brainspotting,Online Live Training
ATTACH;FMTTYPE=image/png:https://practiceexcellencetrainings.com/wp-content/uploads/2024/10/Brainspotting-Trainings-2.png
ORGANIZER;CN="Brooke Randolph%2C LMHC%2C LIMHP%2C LPC%2C LPCC-S":MAILTO:email@brooke-randolph.com
END:VEVENT
END:VCALENDAR